BEGIN:VCALENDAR
VERSION:2.0
PRODID:-//Contratero//ES
CALSCALE:GREGORIAN
METHOD:PUBLISH
BEGIN:VEVENT
UID:(A02022438)-000 - SGSPI/2020/1@contratero.es
DTSTAMP:20260419T210341Z
DTSTART:20201109T235959
DTEND:20201110T005959
SUMMARY:Cierre: Desarrollo e implantación en la sociedad "Suelo y 
DESCRIPTION:Desarrollo e implantación en la sociedad "Suelo y Vivienda de Aragón\, S.L.U.”\, de un sistema de gestión de la seguridad y de la privacidad de la información (RGPD y LOPD-GDD)\, y prestación del servici...\\n\\nOrganismo: Suelo y Vivienda de Aragón\, S.L.U.\\n\\nVer en Contratero: https://contratero.es/contracts/(A02022438)-000 - SGSPI/2020/1
URL:https://contratero.es/contracts/(A02022438)-000 - SGSPI/2020/1
STATUS:CONFIRMED
BEGIN:VALARM
TRIGGER:-P1D
ACTION:DISPLAY
DESCRIPTION:Recordatorio: Desarrollo e implantación en l
END:VALARM
END:VEVENT
END:VCALENDAR